BEGIN:VCALENDAR
PRODID:-//Microsoft Corporation//OutlookMIMEDIR//EN
VERSION:2.0
X-WR-TIMEZONE:America/Denver
CALSCALE:GREGORIAN
METHOD:PUBLISH
CLASS:PUBLIC
BEGIN:VTIMEZONE
TZID:America/Denver
LAST-MODIFIED:20260306T231828Z
TZURL:https://www.tzurl.org/zoneinfo-outlook/America/Denver
X-LIC-LOCATION:America/Denver
BEGIN:DAYLIGHT
TZNAME:MDT
TZOFFSETFROM:-0700
TZOFFSETTO:-0600
DTSTART:19700308T020000
RRULE:FREQ=YEARLY;BYMONTH=3;BYDAY=2SU
END:DAYLIGHT
BEGIN:STANDARD
TZNAME:MST
TZOFFSETFROM:-0600
TZOFFSETTO:-0700
DTSTART:19701101T020000
RRULE:FREQ=YEARLY;BYMONTH=11;BYDAY=1SU
END:STANDARD
END:VTIMEZONE
BEGIN:VEVENT
DTSTART;TZID=America/Denver:20251120T103000
DTEND;TZID=America/Denver:20251120T120000
DTSTAMP:20260422T050020Z
UID:{6772C69D-C783-404F-868926939DCEFE14}
LOCATION:https://us02web.zoom.us/j/84080371694
SUMMARY:Facility Grants
DESCRIPTION:We’ll have three great speakers joining us:\n
 \n
 1/ Paola Paga, Director of Charter Schools for CDE\n
 She’ll share an overview of the State Charter School Facilities Incentive Grants (SFIG) Program, which provides federal funds to help states improve charter school facilities programs.\n
 \n
 2/ Brandon LaChance, Regional Program Manager for CDE\n
 He’ll give an update on the Building Excellent Schools Today (BEST) Program, which offers competitive grants for new construction and facility improvements.\n
 \n
 3/ Rainey Wikstrom, School Wellness, CLCS\n
 She’ll share insights on the connection between food, learning, and facilities—why kitchen spaces often get overlooked in planning, and what schools should keep in mind before scaling back food service capacity.
PRIORITY:1
END:VEVENT
END:VCALENDAR