BEGIN:VCALENDAR
PRODID:-//Microsoft Corporation//OutlookMIMEDIR//EN
VERSION:2.0
X-WR-TIMEZONE:America/Denver
CALSCALE:GREGORIAN
METHOD:PUBLISH
CLASS:PUBLIC
BEGIN:VTIMEZONE
TZID:America/Denver
LAST-MODIFIED:20260306T231828Z
TZURL:https://www.tzurl.org/zoneinfo-outlook/America/Denver
X-LIC-LOCATION:America/Denver
BEGIN:DAYLIGHT
TZNAME:MDT
TZOFFSETFROM:-0700
TZOFFSETTO:-0600
DTSTART:19700308T020000
RRULE:FREQ=YEARLY;BYMONTH=3;BYDAY=2SU
END:DAYLIGHT
BEGIN:STANDARD
TZNAME:MST
TZOFFSETFROM:-0600
TZOFFSETTO:-0700
DTSTART:19701101T020000
RRULE:FREQ=YEARLY;BYMONTH=11;BYDAY=1SU
END:STANDARD
END:VTIMEZONE
BEGIN:VEVENT
DTSTART;TZID=America/Denver:20260219T103000
DTEND;TZID=America/Denver:20260219T120000
DTSTAMP:20260422T050515Z
UID:{4D766C62-6A4A-4C24-909D6E08AA229752}
LOCATION:https://us02web.zoom.us/j/81769591217
SUMMARY:Tech & AI in the Back Office
DESCRIPTION:This session will explore how charter schools are using emerging technology and AI to improve back-office operations and reduce reliance on manual, people-dependent processes. We’ll discuss how schools are moving beyond spreadsheets, email chains, and ad hoc tools to create more streamlined workflows across finance, HR, procurement, and internal communication.\n
 \n
 Designed as a thought-leadership conversation, the session will highlight practical lessons learned, common pitfalls, and what effective back-office systems can look like at different stages of a school’s growth. Participants should leave with at least one concrete idea for strengthening workflows or improving visibility and decision-making at their school.
PRIORITY:1
END:VEVENT
END:VCALENDAR