BEGIN:VCALENDAR
PRODID:-//Microsoft Corporation//OutlookMIMEDIR//EN
VERSION:2.0
X-WR-TIMEZONE:America/Denver
CALSCALE:GREGORIAN
METHOD:PUBLISH
CLASS:PUBLIC
BEGIN:VTIMEZONE
TZID:America/Denver
LAST-MODIFIED:20260306T231828Z
TZURL:https://www.tzurl.org/zoneinfo-outlook/America/Denver
X-LIC-LOCATION:America/Denver
BEGIN:DAYLIGHT
TZNAME:MDT
TZOFFSETFROM:-0700
TZOFFSETTO:-0600
DTSTART:19700308T020000
RRULE:FREQ=YEARLY;BYMONTH=3;BYDAY=2SU
END:DAYLIGHT
BEGIN:STANDARD
TZNAME:MST
TZOFFSETFROM:-0600
TZOFFSETTO:-0700
DTSTART:19701101T020000
RRULE:FREQ=YEARLY;BYMONTH=11;BYDAY=1SU
END:STANDARD
END:VTIMEZONE
BEGIN:VEVENT
DTSTART;TZID=America/Denver:20260521T103000
DTEND;TZID=America/Denver:20260521T120000
DTSTAMP:20260422T033416Z
UID:{31EB28FF-D462-4E43-809955E79C1BDA96}
LOCATION:https://us02web.zoom.us/j/82504305202
SUMMARY:Preparing for a Successful Audit
DESCRIPTION:This session will focus on practical steps to ensure a smooth and compliant audit season. Discussion will include audit readiness best practices, internal controls, documentation tips, and strategies for managing auditor relationships in a tight market. Participants will leave with tools to strengthen their year-round financial preparation and confidence heading into fall audits.
PRIORITY:1
END:VEVENT
END:VCALENDAR