BEGIN:VCALENDAR
PRODID:-//Microsoft Corporation//OutlookMIMEDIR//EN
VERSION:2.0
X-WR-TIMEZONE:America/Denver
CALSCALE:GREGORIAN
METHOD:PUBLISH
CLASS:PUBLIC
BEGIN:VTIMEZONE
TZID:America/Denver
LAST-MODIFIED:20260306T231828Z
TZURL:https://www.tzurl.org/zoneinfo-outlook/America/Denver
X-LIC-LOCATION:America/Denver
BEGIN:DAYLIGHT
TZNAME:MDT
TZOFFSETFROM:-0700
TZOFFSETTO:-0600
DTSTART:19700308T020000
RRULE:FREQ=YEARLY;BYMONTH=3;BYDAY=2SU
END:DAYLIGHT
BEGIN:STANDARD
TZNAME:MST
TZOFFSETFROM:-0600
TZOFFSETTO:-0700
DTSTART:19701101T020000
RRULE:FREQ=YEARLY;BYMONTH=11;BYDAY=1SU
END:STANDARD
END:VTIMEZONE
BEGIN:VEVENT
DTSTART;TZID=America/Denver:20240215T110000
DTEND;TZID=America/Denver:20240215T130000
DTSTAMP:20260422T045906Z
UID:{275DA5C9-53F0-4F00-AEC918B1760E16FD}
LOCATION:https://us02web.zoom.us/meeting/register/tZMpf-6rrD8rHtPn3heG-YdvpcX-fod_EDrX#/registration
SUMMARY:Business and Operations Networking Cohort
DESCRIPTION:
PRIORITY:1
END:VEVENT
END:VCALENDAR