BEGIN:VCALENDAR
PRODID:-//Pixl8//Eventfolio//EN
VERSION:2.0
X-WR-TIMEZONE:America/Denver
CALSCALE:GREGORIAN
METHOD:PUBLISH
CLASS:PUBLIC
BEGIN:VTIMEZONE
TZID:America/Denver
LAST-MODIFIED:20260306T231828Z
TZURL:https://www.tzurl.org/zoneinfo-outlook/America/Denver
X-LIC-LOCATION:America/Denver
BEGIN:DAYLIGHT
TZNAME:MDT
TZOFFSETFROM:-0700
TZOFFSETTO:-0600
DTSTART:19700308T020000
RRULE:FREQ=YEARLY;BYMONTH=3;BYDAY=2SU
END:DAYLIGHT
BEGIN:STANDARD
TZNAME:MST
TZOFFSETFROM:-0600
TZOFFSETTO:-0700
DTSTART:19701101T020000
RRULE:FREQ=YEARLY;BYMONTH=11;BYDAY=1SU
END:STANDARD
END:VTIMEZONE
BEGIN:VEVENT
DTSTART;TZID=America/Denver:20240517T090000
DTEND;TZID=America/Denver:20240517T100000
DTSTAMP:20260423T135449Z
UID:{7BE6A5A1-59B1-4193-A6FEF478E8444E73}
LOCATION:
SUMMARY:Town Hall May 2024
DESCRIPTION:Join us at our year-end gathering to celebrate your contributions this school year. We'll honor National Charter Schools Week and delve into Colorado charter school achievements, legislative victories, and the latest State of Colorado Charter Schools report from the CDE.\n
 \n
 Event details: https://coloradoleague.org/events/event-calendar/town-hall-may-2024.html
PRIORITY:1
END:VEVENT
END:VCALENDAR