BEGIN:VCALENDAR
PRODID:-//Pixl8//Eventfolio//EN
VERSION:2.0
X-WR-TIMEZONE:America/Denver
CALSCALE:GREGORIAN
METHOD:PUBLISH
CLASS:PUBLIC
BEGIN:VTIMEZONE
TZID:America/Denver
LAST-MODIFIED:20260306T231828Z
TZURL:https://www.tzurl.org/zoneinfo-outlook/America/Denver
X-LIC-LOCATION:America/Denver
BEGIN:DAYLIGHT
TZNAME:MDT
TZOFFSETFROM:-0700
TZOFFSETTO:-0600
DTSTART:19700308T020000
RRULE:FREQ=YEARLY;BYMONTH=3;BYDAY=2SU
END:DAYLIGHT
BEGIN:STANDARD
TZNAME:MST
TZOFFSETFROM:-0600
TZOFFSETTO:-0700
DTSTART:19701101T020000
RRULE:FREQ=YEARLY;BYMONTH=11;BYDAY=1SU
END:STANDARD
END:VTIMEZONE
BEGIN:VEVENT
DTSTART;TZID=America/Denver:20240801T090000
DTEND;TZID=America/Denver:20240801T160000
DTSTAMP:20260421T073130Z
UID:{4804FFAA-EACC-4F82-995A9B562A3B0E2A}
LOCATION:League Office\, 104 N. Broadway\, Suite 400\, Denver\, CO 80203
SUMMARY:Title IX Training: Investigator (Block Two)
DESCRIPTION:This one-day, six-hour training series explores how to carry out effective Title IX investigations. Reflects the new Title IX regulations that go into effect August 1, 2024.\n
 \n
 Event details: https://coloradoleague.org/events/event-calendar/title-ix-training-investigator-block-two.html
PRIORITY:1
END:VEVENT
END:VCALENDAR