BEGIN:VCALENDAR
PRODID:-//Pixl8//Eventfolio//EN
VERSION:2.0
X-WR-TIMEZONE:America/Denver
CALSCALE:GREGORIAN
METHOD:PUBLISH
CLASS:PUBLIC
BEGIN:VTIMEZONE
TZID:America/Denver
LAST-MODIFIED:20260306T231828Z
TZURL:https://www.tzurl.org/zoneinfo-outlook/America/Denver
X-LIC-LOCATION:America/Denver
BEGIN:DAYLIGHT
TZNAME:MDT
TZOFFSETFROM:-0700
TZOFFSETTO:-0600
DTSTART:19700308T020000
RRULE:FREQ=YEARLY;BYMONTH=3;BYDAY=2SU
END:DAYLIGHT
BEGIN:STANDARD
TZNAME:MST
TZOFFSETFROM:-0600
TZOFFSETTO:-0700
DTSTART:19701101T020000
RRULE:FREQ=YEARLY;BYMONTH=11;BYDAY=1SU
END:STANDARD
END:VTIMEZONE
BEGIN:VEVENT
DTSTART;TZID=America/Denver:20240729T123000
DTEND;TZID=America/Denver:20240729T150000
DTSTAMP:20260421T023947Z
UID:{C8ABE414-3FB5-4BC0-90CBE86EE41DF217}
LOCATION:League Office\, 104 N. Broadway\, Suite 400\, Denver\, CO 80203
SUMMARY:Title IX Training: Decision Maker (Block Two)
DESCRIPTION:Two-hour training on how to make effective decisions associated with Title IX complaints. Training reflects the NEW Title IX regulations that go into effect on August 1, 2024.\n
 \n
 Event details: https://coloradoleague.org/events/event-calendar/title-ix-training-decision-maker-block-two.html
PRIORITY:1
END:VEVENT
END:VCALENDAR