BEGIN:VCALENDAR
PRODID:-//Pixl8//Eventfolio//EN
VERSION:2.0
X-WR-TIMEZONE:America/Denver
CALSCALE:GREGORIAN
METHOD:PUBLISH
CLASS:PUBLIC
BEGIN:VTIMEZONE
TZID:America/Denver
LAST-MODIFIED:20260306T231828Z
TZURL:https://www.tzurl.org/zoneinfo-outlook/America/Denver
X-LIC-LOCATION:America/Denver
BEGIN:DAYLIGHT
TZNAME:MDT
TZOFFSETFROM:-0700
TZOFFSETTO:-0600
DTSTART:19700308T020000
RRULE:FREQ=YEARLY;BYMONTH=3;BYDAY=2SU
END:DAYLIGHT
BEGIN:STANDARD
TZNAME:MST
TZOFFSETFROM:-0600
TZOFFSETTO:-0700
DTSTART:19701101T020000
RRULE:FREQ=YEARLY;BYMONTH=11;BYDAY=1SU
END:STANDARD
END:VTIMEZONE
BEGIN:VEVENT
DTSTART;TZID=America/Denver:20250410T123000
DTEND;TZID=America/Denver:20250410T163000
DTSTAMP:20260421T083720Z
UID:{527C5DB0-2EC5-4345-8DC6C7F6BCDA8237}
LOCATION:League Office\, 104 N. Broadway\, Suite 400\, Denver\, CO 80203
SUMMARY:Title IX Training: Decision Maker
DESCRIPTION:Updated training for effective decisions associated with Title IX complaints.\n
 \n
 Event details: https://coloradoleague.org/events/event-calendar/title-ix-training-decision-maker-april-2025.html
PRIORITY:1
END:VEVENT
END:VCALENDAR