BEGIN:VCALENDAR
PRODID:-//Pixl8//Eventfolio//EN
VERSION:2.0
X-WR-TIMEZONE:America/Denver
CALSCALE:GREGORIAN
METHOD:PUBLISH
CLASS:PUBLIC
BEGIN:VTIMEZONE
TZID:America/Denver
LAST-MODIFIED:20260306T231828Z
TZURL:https://www.tzurl.org/zoneinfo-outlook/America/Denver
X-LIC-LOCATION:America/Denver
BEGIN:DAYLIGHT
TZNAME:MDT
TZOFFSETFROM:-0700
TZOFFSETTO:-0600
DTSTART:19700308T020000
RRULE:FREQ=YEARLY;BYMONTH=3;BYDAY=2SU
END:DAYLIGHT
BEGIN:STANDARD
TZNAME:MST
TZOFFSETFROM:-0600
TZOFFSETTO:-0700
DTSTART:19701101T020000
RRULE:FREQ=YEARLY;BYMONTH=11;BYDAY=1SU
END:STANDARD
END:VTIMEZONE
BEGIN:VEVENT
DTSTART;TZID=America/Denver;VALUE=DATE:20260217
DTEND;TZID=America/Denver;VALUE=DATE:20260221
DTSTAMP:20260419T163540Z
UID:{AF83BC6B-85D2-4B7B-8863CA54DB1D1DE8}
LOCATION:Virtual
SUMMARY:Title IX Training: Coordinator
DESCRIPTION:Build a compliant, trauma-informed Title IX program with practical tools, policies, and best practices aligned to the 2020 Regulations for K–12 schools.\n
 \n
 Event details: https://coloradoleague.org/events/event-calendar/title-ix-training-coordinator022026.html
PRIORITY:1
END:VEVENT
END:VCALENDAR