BEGIN:VCALENDAR
PRODID:-//Pixl8//Eventfolio//EN
VERSION:2.0
X-WR-TIMEZONE:America/Denver
CALSCALE:GREGORIAN
METHOD:PUBLISH
CLASS:PUBLIC
BEGIN:VTIMEZONE
TZID:America/Denver
LAST-MODIFIED:20260306T231828Z
TZURL:https://www.tzurl.org/zoneinfo-outlook/America/Denver
X-LIC-LOCATION:America/Denver
BEGIN:DAYLIGHT
TZNAME:MDT
TZOFFSETFROM:-0700
TZOFFSETTO:-0600
DTSTART:19700308T020000
RRULE:FREQ=YEARLY;BYMONTH=3;BYDAY=2SU
END:DAYLIGHT
BEGIN:STANDARD
TZNAME:MST
TZOFFSETFROM:-0600
TZOFFSETTO:-0700
DTSTART:19701101T020000
RRULE:FREQ=YEARLY;BYMONTH=11;BYDAY=1SU
END:STANDARD
END:VTIMEZONE
BEGIN:VEVENT
DTSTART;TZID=America/Denver:20230926T180000
DTEND;TZID=America/Denver:20230926T200000
DTSTAMP:20260423T054803Z
UID:{F9936440-BA28-41CC-8EBF0050ED3B3575}
LOCATION:Virtual
SUMMARY:Title IX Equity and Compliance for Boards and School Leaders
DESCRIPTION:This single, two-hour training is designed for board members, school leaders, counselors, athletic directors and any staff involved in Title IX processes. Pricing is for an entire school board, so can be purchased once and the link shared amongst board members.\n
 \n
 Event details: https://coloradoleague.org/events/event-calendar/title-ix-equity-and-compliance-for-boards-and-school-leaders.html
PRIORITY:1
END:VEVENT
END:VCALENDAR