BEGIN:VCALENDAR
PRODID:-//Pixl8//Eventfolio//EN
VERSION:2.0
X-WR-TIMEZONE:America/Denver
CALSCALE:GREGORIAN
METHOD:PUBLISH
CLASS:PUBLIC
BEGIN:VTIMEZONE
TZID:America/Denver
LAST-MODIFIED:20260306T231828Z
TZURL:https://www.tzurl.org/zoneinfo-outlook/America/Denver
X-LIC-LOCATION:America/Denver
BEGIN:DAYLIGHT
TZNAME:MDT
TZOFFSETFROM:-0700
TZOFFSETTO:-0600
DTSTART:19700308T020000
RRULE:FREQ=YEARLY;BYMONTH=3;BYDAY=2SU
END:DAYLIGHT
BEGIN:STANDARD
TZNAME:MST
TZOFFSETFROM:-0600
TZOFFSETTO:-0700
DTSTART:19701101T020000
RRULE:FREQ=YEARLY;BYMONTH=11;BYDAY=1SU
END:STANDARD
END:VTIMEZONE
BEGIN:VEVENT
DTSTART;TZID=America/Denver:20240424T090000
DTEND;TZID=America/Denver:20240424T110000
DTSTAMP:20260421T020434Z
UID:{CBB00462-3DCC-4B7C-9C934E399532AF3B}
LOCATION:Virtual
SUMMARY:Title IX Decision Maker Training
DESCRIPTION:Designed for staff members who are tasked with student discipline, their supervisors and Title IX coordinators, this two-hour course will examine Title IX requirements from a decision-making perspective, including mitigating circumstances and considerations for specific student populations. Achieving proper documentation will also be covered. One 2-hour day total.\n
 \n
 Event details: https://coloradoleague.org/events/event-calendar/title-ix-decision-maker-training.html
PRIORITY:1
END:VEVENT
END:VCALENDAR