BEGIN:VCALENDAR
PRODID:-//Pixl8//Eventfolio//EN
VERSION:2.0
X-WR-TIMEZONE:America/Denver
CALSCALE:GREGORIAN
METHOD:PUBLISH
CLASS:PUBLIC
BEGIN:VTIMEZONE
TZID:America/Denver
LAST-MODIFIED:20260306T231828Z
TZURL:https://www.tzurl.org/zoneinfo-outlook/America/Denver
X-LIC-LOCATION:America/Denver
BEGIN:DAYLIGHT
TZNAME:MDT
TZOFFSETFROM:-0700
TZOFFSETTO:-0600
DTSTART:19700308T020000
RRULE:FREQ=YEARLY;BYMONTH=3;BYDAY=2SU
END:DAYLIGHT
BEGIN:STANDARD
TZNAME:MST
TZOFFSETFROM:-0600
TZOFFSETTO:-0700
DTSTART:19701101T020000
RRULE:FREQ=YEARLY;BYMONTH=11;BYDAY=1SU
END:STANDARD
END:VTIMEZONE
BEGIN:VEVENT
DTSTART;TZID=America/Denver:20240416T090000
DTEND;TZID=America/Denver:20240416T143000
DTSTAMP:20260423T091617Z
UID:{0CAD9B87-906F-4E98-B88E5979DB9F312D.45398}
LOCATION:The Denver Place
SUMMARY:Title IX Coordinator Training
DESCRIPTION:Designed for Title IX coordinators and their supervisors, this series will help attendees develop policies and procedures while building an effective Title IX compliance program for their school. Two 5½-hour days total.\n
 \n
 Event details: https://coloradoleague.org/events/event-calendar/title-ix-coordinator-training.html
PRIORITY:1
END:VEVENT
BEGIN:VEVENT
DTSTART;TZID=America/Denver:20240417T090000
DTEND;TZID=America/Denver:20240417T143000
DTSTAMP:20260423T091617Z
UID:{0CAD9B87-906F-4E98-B88E5979DB9F312D.45399}
LOCATION:The Denver Place
SUMMARY:Title IX Coordinator Training
DESCRIPTION:Designed for Title IX coordinators and their supervisors, this series will help attendees develop policies and procedures while building an effective Title IX compliance program for their school. Two 5½-hour days total.\n
 \n
 Event details: https://coloradoleague.org/events/event-calendar/title-ix-coordinator-training.html
PRIORITY:1
END:VEVENT
END:VCALENDAR