BEGIN:VCALENDAR
PRODID:-//Pixl8//Eventfolio//EN
VERSION:2.0
X-WR-TIMEZONE:America/Denver
CALSCALE:GREGORIAN
METHOD:PUBLISH
CLASS:PUBLIC
BEGIN:VTIMEZONE
TZID:America/Denver
LAST-MODIFIED:20260306T231828Z
TZURL:https://www.tzurl.org/zoneinfo-outlook/America/Denver
X-LIC-LOCATION:America/Denver
BEGIN:DAYLIGHT
TZNAME:MDT
TZOFFSETFROM:-0700
TZOFFSETTO:-0600
DTSTART:19700308T020000
RRULE:FREQ=YEARLY;BYMONTH=3;BYDAY=2SU
END:DAYLIGHT
BEGIN:STANDARD
TZNAME:MST
TZOFFSETFROM:-0600
TZOFFSETTO:-0700
DTSTART:19701101T020000
RRULE:FREQ=YEARLY;BYMONTH=11;BYDAY=1SU
END:STANDARD
END:VTIMEZONE
BEGIN:VEVENT
DTSTART;TZID=America/Denver:20240529T090000
DTEND;TZID=America/Denver:20240529T100000
DTSTAMP:20260423T064848Z
UID:{38D24543-4B33-4F3E-81C14FAB52CA6BC0}
LOCATION:League Office\, 104 N. Broadway\, Suite 400\, Denver\, CO 80203
SUMMARY:Title IX: Board 2024 Regulation Update
DESCRIPTION:Join us online or in-person for this free Title IX Regulation update for Boards.\n
 \n
 Event details: https://coloradoleague.org/events/event-calendar/title-ix-board-2024-regulation-update.html
PRIORITY:1
END:VEVENT
END:VCALENDAR