BEGIN:VCALENDAR
PRODID:-//Pixl8//Eventfolio//EN
VERSION:2.0
X-WR-TIMEZONE:America/Denver
CALSCALE:GREGORIAN
METHOD:PUBLISH
CLASS:PUBLIC
BEGIN:VTIMEZONE
TZID:America/Denver
LAST-MODIFIED:20260306T231828Z
TZURL:https://www.tzurl.org/zoneinfo-outlook/America/Denver
X-LIC-LOCATION:America/Denver
BEGIN:DAYLIGHT
TZNAME:MDT
TZOFFSETFROM:-0700
TZOFFSETTO:-0600
DTSTART:19700308T020000
RRULE:FREQ=YEARLY;BYMONTH=3;BYDAY=2SU
END:DAYLIGHT
BEGIN:STANDARD
TZNAME:MST
TZOFFSETFROM:-0600
TZOFFSETTO:-0700
DTSTART:19701101T020000
RRULE:FREQ=YEARLY;BYMONTH=11;BYDAY=1SU
END:STANDARD
END:VTIMEZONE
BEGIN:VEVENT
DTSTART;TZID=America/Denver:20250410T180000
DTEND;TZID=America/Denver:20250410T193000
DTSTAMP:20260422T044900Z
UID:{60C6E32B-A59B-4DDB-9D2573B60D5B4DC6}
LOCATION:Parker
SUMMARY:Regional Gathering: Denver South
DESCRIPTION:Join your Denver South Charter School leaders for a League Hosted Happy Hour.\n
 \n
 Event details: https://coloradoleague.org/events/event-calendar/regional-gathering-denver-south.html
PRIORITY:1
END:VEVENT
END:VCALENDAR