BEGIN:VCALENDAR
PRODID:-//Pixl8//Eventfolio//EN
VERSION:2.0
X-WR-TIMEZONE:America/Denver
CALSCALE:GREGORIAN
METHOD:PUBLISH
CLASS:PUBLIC
BEGIN:VTIMEZONE
TZID:America/Denver
LAST-MODIFIED:20260306T231828Z
TZURL:https://www.tzurl.org/zoneinfo-outlook/America/Denver
X-LIC-LOCATION:America/Denver
BEGIN:DAYLIGHT
TZNAME:MDT
TZOFFSETFROM:-0700
TZOFFSETTO:-0600
DTSTART:19700308T020000
RRULE:FREQ=YEARLY;BYMONTH=3;BYDAY=2SU
END:DAYLIGHT
BEGIN:STANDARD
TZNAME:MST
TZOFFSETFROM:-0600
TZOFFSETTO:-0700
DTSTART:19701101T020000
RRULE:FREQ=YEARLY;BYMONTH=11;BYDAY=1SU
END:STANDARD
END:VTIMEZONE
BEGIN:VEVENT
DTSTART;TZID=America/Denver:20240417T120000
DTEND;TZID=America/Denver:20240417T140000
DTSTAMP:20260423T053851Z
UID:{143F4E28-329A-4B2E-BB17894F9C21001D}
LOCATION:Hybrid
SUMMARY:Leveraging Community Engagement to Drive Continuous Enrollment (Session Six)
DESCRIPTION:Designed for both school leaders and site-based owners of marketing, enrollment and/or community engagement, each session will help attendees set a new vision and norm for school recruitment across teams, while gaining access to a wealth of practices, tools, and frameworks that can be adapted to any context\n
 \n
 Event details: https://coloradoleague.org/events/event-calendar/leveraging-community-engagement-to-drive-continuous-enrollment-session-six.html
PRIORITY:1
END:VEVENT
END:VCALENDAR