BEGIN:VCALENDAR
PRODID:-//Pixl8//Eventfolio//EN
VERSION:2.0
X-WR-TIMEZONE:America/Denver
CALSCALE:GREGORIAN
METHOD:PUBLISH
CLASS:PUBLIC
BEGIN:VTIMEZONE
TZID:America/Denver
LAST-MODIFIED:20260306T231828Z
TZURL:https://www.tzurl.org/zoneinfo-outlook/America/Denver
X-LIC-LOCATION:America/Denver
BEGIN:DAYLIGHT
TZNAME:MDT
TZOFFSETFROM:-0700
TZOFFSETTO:-0600
DTSTART:19700308T020000
RRULE:FREQ=YEARLY;BYMONTH=3;BYDAY=2SU
END:DAYLIGHT
BEGIN:STANDARD
TZNAME:MST
TZOFFSETFROM:-0600
TZOFFSETTO:-0700
DTSTART:19701101T020000
RRULE:FREQ=YEARLY;BYMONTH=11;BYDAY=1SU
END:STANDARD
END:VTIMEZONE
BEGIN:VEVENT
DTSTART;TZID=America/Denver:20250603T140000
DTEND;TZID=America/Denver:20250603T153000
DTSTAMP:20260425T125424Z
UID:{6D138853-B1A9-4E67-A83A7E868649B9D8}
LOCATION:Virtual
SUMMARY:FY25 GSC Program Post-Award Webinar (Continuation)
DESCRIPTION:This training is for recently awarded continuation school.\n
 \n
 Event details: https://coloradoleague.org/events/event-calendar/fy25-gsc-program-post-award-webinar-continuation.html
PRIORITY:1
END:VEVENT
END:VCALENDAR