BEGIN:VCALENDAR
PRODID:-//Pixl8//Eventfolio//EN
VERSION:2.0
X-WR-TIMEZONE:America/New_York
CALSCALE:GREGORIAN
METHOD:PUBLISH
CLASS:PUBLIC
BEGIN:VTIMEZONE
TZID:America/New_York
LAST-MODIFIED:20260306T231828Z
TZURL:https://www.tzurl.org/zoneinfo-outlook/America/New_York
X-LIC-LOCATION:America/New_York
BEGIN:DAYLIGHT
TZNAME:EDT
TZOFFSETFROM:-0500
TZOFFSETTO:-0400
DTSTART:19700308T020000
RRULE:FREQ=YEARLY;BYMONTH=3;BYDAY=2SU
END:DAYLIGHT
BEGIN:STANDARD
TZNAME:EST
TZOFFSETFROM:-0400
TZOFFSETTO:-0500
DTSTART:19701101T020000
RRULE:FREQ=YEARLY;BYMONTH=11;BYDAY=1SU
END:STANDARD
END:VTIMEZONE
BEGIN:VEVENT
DTSTART;TZID=America/New_York:20250701T163000
DTEND;TZID=America/New_York:20250701T173000
DTSTAMP:20260423T053957Z
UID:{CE586ED1-18AB-4931-B2F34E034D9A264E}
LOCATION:Orlando World Center Marriott Hotel
SUMMARY:Colorado Happy Hour at National Conference
DESCRIPTION:Join us at the National Alliance for Public Charter Schools' Conference in Orlando for an exclusive Colorado Happy Hour on July 1st.\n
 \n
 Event details: https://coloradoleague.org/events/event-calendar/colorado-happy-hour-at-national-conference2025.html
PRIORITY:1
END:VEVENT
END:VCALENDAR