BEGIN:VCALENDAR
PRODID:-//Pixl8//Eventfolio//EN
VERSION:2.0
X-WR-TIMEZONE:America/Denver
CALSCALE:GREGORIAN
METHOD:PUBLISH
CLASS:PUBLIC
BEGIN:VTIMEZONE
TZID:America/Denver
LAST-MODIFIED:20260306T231828Z
TZURL:https://www.tzurl.org/zoneinfo-outlook/America/Denver
X-LIC-LOCATION:America/Denver
BEGIN:DAYLIGHT
TZNAME:MDT
TZOFFSETFROM:-0700
TZOFFSETTO:-0600
DTSTART:19700308T020000
RRULE:FREQ=YEARLY;BYMONTH=3;BYDAY=2SU
END:DAYLIGHT
BEGIN:STANDARD
TZNAME:MST
TZOFFSETFROM:-0600
TZOFFSETTO:-0700
DTSTART:19701101T020000
RRULE:FREQ=YEARLY;BYMONTH=11;BYDAY=1SU
END:STANDARD
END:VTIMEZONE
BEGIN:VEVENT
DTSTART;TZID=America/Denver:20250417T090000
DTEND;TZID=America/Denver:20250417T160000
DTSTAMP:20260424T071928Z
UID:{7FDF1F1D-2733-45B3-B2F0396B7BBCDE57}
LOCATION:League Office\, 104 N. Broadway\, Suite 400\, Denver\, CO 80203
SUMMARY:CANCELLED: Title IX Training: Investigator
DESCRIPTION:A one-day, six-hour training.\n
 \n
 Event details: https://coloradoleague.org/events/event-calendar/cancelled-title-ix-training-investigator.html
PRIORITY:1
END:VEVENT
END:VCALENDAR