BEGIN:VCALENDAR
PRODID:-//Pixl8//Eventfolio//EN
VERSION:2.0
X-WR-TIMEZONE:America/Denver
CALSCALE:GREGORIAN
METHOD:PUBLISH
CLASS:PUBLIC
BEGIN:VTIMEZONE
TZID:America/Denver
LAST-MODIFIED:20260306T231828Z
TZURL:https://www.tzurl.org/zoneinfo-outlook/America/Denver
X-LIC-LOCATION:America/Denver
BEGIN:DAYLIGHT
TZNAME:MDT
TZOFFSETFROM:-0700
TZOFFSETTO:-0600
DTSTART:19700308T020000
RRULE:FREQ=YEARLY;BYMONTH=3;BYDAY=2SU
END:DAYLIGHT
BEGIN:STANDARD
TZNAME:MST
TZOFFSETFROM:-0600
TZOFFSETTO:-0700
DTSTART:19701101T020000
RRULE:FREQ=YEARLY;BYMONTH=11;BYDAY=1SU
END:STANDARD
END:VTIMEZONE
BEGIN:VEVENT
DTSTART;TZID=America/Denver:20231006T090000
DTEND;TZID=America/Denver:20231006T140000
DTSTAMP:20260423T084908Z
UID:{29B124DF-2830-480F-B87A4F7EAF9B1EE5}
LOCATION:Hybrid
SUMMARY:Building a Special Education Vision
DESCRIPTION:In this one day workshop, participants will walk away with a special education playbook. Student services consultant Kaci Coats will guide participants through the process of defining the experience they want all students to have in their school and then setting the school's vision, guiding principles, and continuum of services needed to accomplish that. Earn up to five Continuing Education Units.\n
 \n
 Event details: https://coloradoleague.org/events/event-calendar/building-a-special-education-vision.html
PRIORITY:1
END:VEVENT
END:VCALENDAR