BEGIN:VCALENDAR
PRODID:-//Pixl8//Eventfolio//EN
VERSION:2.0
X-WR-TIMEZONE:America/Denver
CALSCALE:GREGORIAN
METHOD:PUBLISH
CLASS:PUBLIC
BEGIN:VTIMEZONE
TZID:America/Denver
LAST-MODIFIED:20260306T231828Z
TZURL:https://www.tzurl.org/zoneinfo-outlook/America/Denver
X-LIC-LOCATION:America/Denver
BEGIN:DAYLIGHT
TZNAME:MDT
TZOFFSETFROM:-0700
TZOFFSETTO:-0600
DTSTART:19700308T020000
RRULE:FREQ=YEARLY;BYMONTH=3;BYDAY=2SU
END:DAYLIGHT
BEGIN:STANDARD
TZNAME:MST
TZOFFSETFROM:-0600
TZOFFSETTO:-0700
DTSTART:19701101T020000
RRULE:FREQ=YEARLY;BYMONTH=11;BYDAY=1SU
END:STANDARD
END:VTIMEZONE
BEGIN:VEVENT
DTSTART;TZID=America/Denver:20241029T090000
DTEND;TZID=America/Denver:20241029T144500
DTSTAMP:20260425T144823Z
UID:{76DB8F56-721F-4EF5-8A0AECC00E351A8D.45594}
LOCATION:Adams 12 Conference Center
SUMMARY:Annual Finance Seminar
DESCRIPTION:A yearly convening for heads of business operations, school leaders, and governing board members.\n
 \n
 Event details: https://coloradoleague.org/events/event-calendar/annual-finance-seminar-2024.html
PRIORITY:1
END:VEVENT
END:VCALENDAR