BEGIN:VCALENDAR
PRODID:-//Pixl8//Eventfolio//EN
VERSION:2.0
X-WR-TIMEZONE:America/Denver
CALSCALE:GREGORIAN
METHOD:PUBLISH
CLASS:PUBLIC
BEGIN:VTIMEZONE
TZID:America/Denver
LAST-MODIFIED:20260306T231828Z
TZURL:https://www.tzurl.org/zoneinfo-outlook/America/Denver
X-LIC-LOCATION:America/Denver
BEGIN:DAYLIGHT
TZNAME:MDT
TZOFFSETFROM:-0700
TZOFFSETTO:-0600
DTSTART:19700308T020000
RRULE:FREQ=YEARLY;BYMONTH=3;BYDAY=2SU
END:DAYLIGHT
BEGIN:STANDARD
TZNAME:MST
TZOFFSETFROM:-0600
TZOFFSETTO:-0700
DTSTART:19701101T020000
RRULE:FREQ=YEARLY;BYMONTH=11;BYDAY=1SU
END:STANDARD
END:VTIMEZONE
BEGIN:VEVENT
DTSTART;TZID=America/Denver:20231005T120000
DTEND;TZID=America/Denver:20231005T130000
DTSTAMP:20260423T002600Z
UID:{B7593573-364F-4B94-BD692EAFB07FF9DF}
LOCATION:Virtual
SUMMARY:ACT Members Pre-Election Briefing 
DESCRIPTION:Want a preview of what will be on your ballot in November? Join us for an ACT exclusive pre-election briefing on October 5th at noon, where we'll be going over the major ballot issues and races as well as ways you can engage your community in the election this year.\n
 \n
 Event details: https://coloradoleague.org/events/event-calendar/act-members-pre-election-briefing.html
PRIORITY:1
END:VEVENT
END:VCALENDAR