BEGIN:VCALENDAR
PRODID:-//Pixl8//Eventfolio//EN
VERSION:2.0
X-WR-TIMEZONE:America/Denver
CALSCALE:GREGORIAN
METHOD:PUBLISH
CLASS:PUBLIC
BEGIN:VTIMEZONE
TZID:America/Denver
LAST-MODIFIED:20260306T231828Z
TZURL:https://www.tzurl.org/zoneinfo-outlook/America/Denver
X-LIC-LOCATION:America/Denver
BEGIN:DAYLIGHT
TZNAME:MDT
TZOFFSETFROM:-0700
TZOFFSETTO:-0600
DTSTART:19700308T020000
RRULE:FREQ=YEARLY;BYMONTH=3;BYDAY=2SU
END:DAYLIGHT
BEGIN:STANDARD
TZNAME:MST
TZOFFSETFROM:-0600
TZOFFSETTO:-0700
DTSTART:19701101T020000
RRULE:FREQ=YEARLY;BYMONTH=11;BYDAY=1SU
END:STANDARD
END:VTIMEZONE
BEGIN:VEVENT
DTSTART;TZID=America/Denver:20240226T080000
DTEND;TZID=America/Denver:20240226T230000
DTSTAMP:20260423T184709Z
UID:{768D672F-D9D2-462A-BDB3D726E0273728.45348}
LOCATION:Denver Marriott Tech Center
SUMMARY:2024 Annual Conference (Pre-Event)
DESCRIPTION:Register here for Monday's VIP Happy Hour and other special meetings.\n
 \n
 Event details: https://coloradoleague.org/events/event-calendar/2024-annual-conference-pre-event.html
PRIORITY:1
END:VEVENT
END:VCALENDAR